BEGIN:VCALENDAR
VERSION:2.0
PRODID:-//www.turningpoint-wi.org//NONSGML kigkonsult.se iCalcreator 2.30.1
 0//
CALSCALE:GREGORIAN
METHOD:PUBLISH
UID:20273018-9035-42f4-9f5f-85a17b13b214
X-WR-CALDESC:Creative Healing Support Group caters to the emotional needs o
 f our clients through artistic expression. Bringing together art and psych
 oeducation\, the support group allows for a communal space for grief and g
 rowth. We engage in a practice of taking space that models consent culture
  by meeting the client where they are and catering to their needs. Each in
 dividual is invited to join this judgment-free space of healing and sharin
 g. \n\nTo register\, contact Brittany Wagner\, Supportive Services Coordin
 ator\, at brittanyw@turningpoint-wi.org or 715-425-6751.\n
X-WR-RELCALID:38d54fb347104759b8ca7ee05e0e1e55
X-WR-TIMEZONE:America/Chicago
BEGIN:VTIMEZONE
TZID:America/Chicago
BEGIN:STANDARD
TZNAME:CST
DTSTART:20281105T020000
TZOFFSETFROM:-0500
TZOFFSETTO:-0600
RDATE:20291104T020000
RDATE:20301103T020000
END:STANDARD
BEGIN:DAYLIGHT
TZNAME:CDT
DTSTART:20290311T020000
TZOFFSETFROM:-0600
TZOFFSETTO:-0500
RDATE:20300310T020000
END:DAYLIGHT
END:VTIMEZONE
BEGIN:VEVENT
UID:2682939d-9cad-4f2c-8f8b-1be39da8759b
DTSTAMP:20260423T160253Z
DESCRIPTION:Creative Healing Support Group caters to the emotional needs of
  our clients through artistic expression. Bringing together art and psycho
 education\, the support group allows for a communal space for grief and gr
 owth. We engage in a practice of taking space that models consent culture 
 by meeting the client where they are and catering to their needs. Each ind
 ividual is invited to join this judgment-free space of healing and sharing
 . \n\nTo register\, contact Brittany Wagner\, Supportive Services Coordina
 tor\, at brittanyw@turningpoint-wi.org or 715-425-6751.\n
DTSTART;TZID=America/Chicago:20290724T190000
DTEND;TZID=America/Chicago:20290724T200000
LOCATION:Creative Healing Support Group (Sexual Assault Support Group)
SUMMARY:Creative Healing Support Group (Sexual Assault Support Group)
END:VEVENT
END:VCALENDAR
