BEGIN:VCALENDAR
VERSION:2.0
PRODID:-//www.turningpoint-wi.org//NONSGML kigkonsult.se iCalcreator 2.30.1
 0//
CALSCALE:GREGORIAN
METHOD:PUBLISH
UID:9d1e31bf-7f85-4435-9771-e5dfebe11f34
X-WR-CALDESC:
X-WR-RELCALID:c862464c83a64f0a8a079231e34ade05
X-WR-TIMEZONE:America/Chicago
BEGIN:VTIMEZONE
TZID:America/Chicago
BEGIN:STANDARD
TZNAME:CST
DTSTART:20281105T020000
TZOFFSETFROM:-0500
TZOFFSETTO:-0600
RDATE:20291104T020000
RDATE:20301103T020000
END:STANDARD
BEGIN:DAYLIGHT
TZNAME:CDT
DTSTART:20290311T020000
TZOFFSETFROM:-0600
TZOFFSETTO:-0500
RDATE:20300310T020000
END:DAYLIGHT
END:VTIMEZONE
BEGIN:VEVENT
UID:5b3ba984-bb63-4b33-8e7f-8352108c6dd5
DTSTAMP:20260423T160351Z
DESCRIPTION:
DTSTART;TZID=America/Chicago:20290710T070000
DTEND;TZID=America/Chicago:20290710T080000
LOCATION:
SUMMARY:Finance Committee Meeting
END:VEVENT
END:VCALENDAR
