BEGIN:VCALENDAR
VERSION:2.0
PRODID:-//www.turningpoint-wi.org//NONSGML kigkonsult.se iCalcreator 2.30.1
 0//
CALSCALE:GREGORIAN
METHOD:PUBLISH
UID:67a35ff0-465b-47d5-953c-00bf208781d3
X-WR-CALDESC:Creative Healing Support Group caters to the emotional needs o
 f our clients through artistic expression. Bringing together art and psych
 oeducation\, the support group allows for a communal space for grief and g
 rowth. We engage in a practice of taking space that models consent culture
  by meeting the client where they are and catering to their needs. Each in
 dividual is invited to join this judgment-free space of healing and sharin
 g. \n\nTo register\, contact Brittany Wagner\, Supportive Services Coordin
 ator\, at brittanyw@turningpoint-wi.org or 715-425-6751.\n
X-WR-RELCALID:62eb2e51f52c85fcd3d4952564ab7649
X-WR-TIMEZONE:America/Chicago
BEGIN:VTIMEZONE
TZID:America/Chicago
BEGIN:STANDARD
TZNAME:CST
DTSTART:20271107T020000
TZOFFSETFROM:-0500
TZOFFSETTO:-0600
RDATE:20281105T020000
END:STANDARD
BEGIN:DAYLIGHT
TZNAME:CDT
DTSTART:20270314T020000
TZOFFSETFROM:-0600
TZOFFSETTO:-0500
RDATE:20280312T020000
RDATE:20290311T020000
END:DAYLIGHT
END:VTIMEZONE
BEGIN:VEVENT
UID:7a2b53b0-2a3b-4915-a16e-8830047c3900
DTSTAMP:20260422T123343Z
DESCRIPTION:Creative Healing Support Group caters to the emotional needs of
  our clients through artistic expression. Bringing together art and psycho
 education\, the support group allows for a communal space for grief and gr
 owth. We engage in a practice of taking space that models consent culture 
 by meeting the client where they are and catering to their needs. Each ind
 ividual is invited to join this judgment-free space of healing and sharing
 . \n\nTo register\, contact Brittany Wagner\, Supportive Services Coordina
 tor\, at brittanyw@turningpoint-wi.org or 715-425-6751.\n
DTSTART;TZID=America/Chicago:20280307T190000
DTEND;TZID=America/Chicago:20280307T200000
LOCATION:Creative Healing Support Group (Sexual Assault Support Group)
SUMMARY:Creative Healing Support Group (Sexual Assault Support Group)
END:VEVENT
END:VCALENDAR
