BEGIN:VCALENDAR
VERSION:2.0
PRODID:-//www.turningpoint-wi.org//NONSGML kigkonsult.se iCalcreator 2.30.1
 0//
CALSCALE:GREGORIAN
METHOD:PUBLISH
UID:c3fe34c8-bbcb-4334-b65b-ebc5c78e2d8f
X-WR-CALDESC:
X-WR-RELCALID:916057a627040675225ae06c4f6a2184
X-WR-TIMEZONE:America/Chicago
BEGIN:VTIMEZONE
TZID:America/Chicago
BEGIN:STANDARD
TZNAME:CST
DTSTART:20271107T020000
TZOFFSETFROM:-0500
TZOFFSETTO:-0600
RDATE:20281105T020000
END:STANDARD
BEGIN:DAYLIGHT
TZNAME:CDT
DTSTART:20270314T020000
TZOFFSETFROM:-0600
TZOFFSETTO:-0500
RDATE:20280312T020000
RDATE:20290311T020000
END:DAYLIGHT
END:VTIMEZONE
BEGIN:VEVENT
UID:8a093346-9301-4e64-b2c7-89fa084b4167
DTSTAMP:20260422T074750Z
DESCRIPTION:
DTSTART;TZID=America/Chicago:20271214T070000
DTEND;TZID=America/Chicago:20271214T080000
LOCATION:
SUMMARY:Finance Committee Meeting
END:VEVENT
END:VCALENDAR
