BEGIN:VCALENDAR
VERSION:2.0
PRODID:-//www.turningpoint-wi.org//NONSGML kigkonsult.se iCalcreator 2.30.1
 0//
CALSCALE:GREGORIAN
METHOD:PUBLISH
UID:71de190b-5ee8-4d8e-ba0b-a8d9bf5743e5
X-WR-CALDESC:
X-WR-RELCALID:5077c6c640bb08312273b2ce31f3b052
X-WR-TIMEZONE:America/Chicago
BEGIN:VTIMEZONE
TZID:America/Chicago
BEGIN:STANDARD
TZNAME:CST
DTSTART:20261101T020000
TZOFFSETFROM:-0500
TZOFFSETTO:-0600
RDATE:20271107T020000
RDATE:20281105T020000
END:STANDARD
BEGIN:DAYLIGHT
TZNAME:CDT
DTSTART:20270314T020000
TZOFFSETFROM:-0600
TZOFFSETTO:-0500
RDATE:20280312T020000
END:DAYLIGHT
END:VTIMEZONE
BEGIN:VEVENT
UID:2ff29702-164b-433a-b000-fd3bdfa8296f
DTSTAMP:20260422T002644Z
DESCRIPTION:
DTSTART;TZID=America/Chicago:20270810T070000
DTEND;TZID=America/Chicago:20270810T080000
LOCATION:
SUMMARY:Finance Committee Meeting
END:VEVENT
END:VCALENDAR
