BEGIN:VCALENDAR
VERSION:2.0
PRODID:-//www.turningpoint-wi.org//NONSGML kigkonsult.se iCalcreator 2.30.1
 0//
CALSCALE:GREGORIAN
METHOD:PUBLISH
UID:885a87af-b9f9-49a3-8ed8-31616f5b4017
X-WR-CALDESC:
X-WR-RELCALID:ffcc5e427af5452556ebda87b412ea28
X-WR-TIMEZONE:America/Chicago
BEGIN:VTIMEZONE
TZID:America/Chicago
BEGIN:STANDARD
TZNAME:CST
DTSTART:20261101T020000
TZOFFSETFROM:-0500
TZOFFSETTO:-0600
RDATE:20271107T020000
RDATE:20281105T020000
END:STANDARD
BEGIN:DAYLIGHT
TZNAME:CDT
DTSTART:20270314T020000
TZOFFSETFROM:-0600
TZOFFSETTO:-0500
RDATE:20280312T020000
END:DAYLIGHT
END:VTIMEZONE
BEGIN:VEVENT
UID:398d4c96-2682-4415-8830-230892ebe7df
DTSTAMP:20260421T222817Z
DESCRIPTION:
DTSTART;TZID=America/Chicago:20270713T070000
DTEND;TZID=America/Chicago:20270713T080000
LOCATION:
SUMMARY:Finance Committee Meeting
END:VEVENT
END:VCALENDAR
