BEGIN:VCALENDAR
VERSION:2.0
PRODID:-//www.turningpoint-wi.org//NONSGML kigkonsult.se iCalcreator 2.30.1
 0//
CALSCALE:GREGORIAN
METHOD:PUBLISH
UID:641dd03a-b275-45c4-a8c0-5a3ba7f3f1cb
X-WR-CALDESC:Creative Healing Support Group caters to the emotional needs o
 f our clients through artistic expression. Bringing together art and psych
 oeducation\, the support group allows for a communal space for grief and g
 rowth. We engage in a practice of taking space that models consent culture
  by meeting the client where they are and catering to their needs. Each in
 dividual is invited to join this judgment-free space of healing and sharin
 g. \n\nTo register\, contact Brittany Wagner\, Supportive Services Coordin
 ator\, at brittanyw@turningpoint-wi.org or 715-425-6751.\n
X-WR-RELCALID:bd0e448ab83af11fc8e8403a1d8782f2
X-WR-TIMEZONE:America/Chicago
BEGIN:VTIMEZONE
TZID:America/Chicago
BEGIN:STANDARD
TZNAME:CST
DTSTART:20261101T020000
TZOFFSETFROM:-0500
TZOFFSETTO:-0600
RDATE:20271107T020000
RDATE:20281105T020000
END:STANDARD
BEGIN:DAYLIGHT
TZNAME:CDT
DTSTART:20270314T020000
TZOFFSETFROM:-0600
TZOFFSETTO:-0500
RDATE:20280312T020000
END:DAYLIGHT
END:VTIMEZONE
BEGIN:VEVENT
UID:d5261ea9-9508-4762-b684-fd7edc816b15
DTSTAMP:20260421T190039Z
DESCRIPTION:Creative Healing Support Group caters to the emotional needs of
  our clients through artistic expression. Bringing together art and psycho
 education\, the support group allows for a communal space for grief and gr
 owth. We engage in a practice of taking space that models consent culture 
 by meeting the client where they are and catering to their needs. Each ind
 ividual is invited to join this judgment-free space of healing and sharing
 . \n\nTo register\, contact Brittany Wagner\, Supportive Services Coordina
 tor\, at brittanyw@turningpoint-wi.org or 715-425-6751.\n
DTSTART;TZID=America/Chicago:20270525T190000
DTEND;TZID=America/Chicago:20270525T200000
LOCATION:Creative Healing Support Group (Sexual Assault Support Group)
SUMMARY:Creative Healing Support Group (Sexual Assault Support Group)
END:VEVENT
END:VCALENDAR
