BEGIN:VCALENDAR
VERSION:2.0
PRODID:-//www.turningpoint-wi.org//NONSGML kigkonsult.se iCalcreator 2.30.1
 0//
CALSCALE:GREGORIAN
METHOD:PUBLISH
UID:e8f00f75-1608-4a6f-837a-ab7f03a4d42f
X-WR-CALDESC:For women who have recently experienced sexual violence\, as w
 ell as those who are coming to terms with past trauma.\n
X-WR-RELCALID:d950ba5671dd64d7d52f69c6e4295ab0
X-WR-TIMEZONE:America/Chicago
BEGIN:VTIMEZONE
TZID:America/Chicago
BEGIN:STANDARD
TZNAME:CST
DTSTART:20191103T020000
TZOFFSETFROM:-0500
TZOFFSETTO:-0600
RDATE:20201101T020000
END:STANDARD
BEGIN:DAYLIGHT
TZNAME:CDT
DTSTART:20190310T020000
TZOFFSETFROM:-0600
TZOFFSETTO:-0500
RDATE:20200308T020000
RDATE:20210314T020000
END:DAYLIGHT
END:VTIMEZONE
BEGIN:VEVENT
UID:576fe0d8-dc13-44a3-94f7-6b12c564e0b3
DTSTAMP:20260422T183721Z
DESCRIPTION:For women who have recently experienced sexual violence\, as we
 ll as those who are coming to terms with past trauma.\n
DTSTART;TZID=America/Chicago:20191113T180000
DTEND;TZID=America/Chicago:20191113T193000
LOCATION:Second Chances Building
SUMMARY:Creative Healing Support Group
END:VEVENT
END:VCALENDAR
